BEGIN:VCALENDAR
VERSION:2.0
PRODID:-//Cyber News Global - ECPv6.15.17.1//NONSGML v1.0//EN
CALSCALE:GREGORIAN
METHOD:PUBLISH
X-ORIGINAL-URL:https://cybernewsglobal.com
X-WR-CALDESC:Events for Cyber News Global
REFRESH-INTERVAL;VALUE=DURATION:PT1H
X-Robots-Tag:noindex
X-PUBLISHED-TTL:PT1H
BEGIN:VTIMEZONE
TZID:Europe/London
BEGIN:DAYLIGHT
TZOFFSETFROM:+0000
TZOFFSETTO:+0100
TZNAME:BST
DTSTART:20250330T010000
END:DAYLIGHT
BEGIN:STANDARD
TZOFFSETFROM:+0100
TZOFFSETTO:+0000
TZNAME:GMT
DTSTART:20251026T010000
END:STANDARD
BEGIN:DAYLIGHT
TZOFFSETFROM:+0000
TZOFFSETTO:+0100
TZNAME:BST
DTSTART:20260329T010000
END:DAYLIGHT
BEGIN:STANDARD
TZOFFSETFROM:+0100
TZOFFSETTO:+0000
TZNAME:GMT
DTSTART:20261025T010000
END:STANDARD
BEGIN:DAYLIGHT
TZOFFSETFROM:+0000
TZOFFSETTO:+0100
TZNAME:BST
DTSTART:20270328T010000
END:DAYLIGHT
BEGIN:STANDARD
TZOFFSETFROM:+0100
TZOFFSETTO:+0000
TZNAME:GMT
DTSTART:20271031T010000
END:STANDARD
END:VTIMEZONE
BEGIN:VEVENT
DTSTART;TZID=Europe/London:20260831T080000
DTEND;TZID=Europe/London:20260903T170000
DTSTAMP:20260422T195332
CREATED:20260414T123420Z
LAST-MODIFIED:20260414T131421Z
UID:10000113-1788163200-1788454800@cybernewsglobal.com
SUMMARY:LEAP 2026  Riyadh
DESCRIPTION:Join the global tech community in Riyadh  \n\nEXHIBIT AT LEAP 2026\n\nLet’s Talk Growth. Let’s Talk LEAP.\n31 August – 3 September 2026 | Riyadh Front Exhibition & Conference Center\nComplete the form to connect with our commercial team and explore how LEAP can deliver pipeline\, visibility\, and impact for your business. \n\n\n\nWhy enquire today?\n\nMeet thousands of tech buyers ready to partner\, pilot or procure\nShowcase your products where 200\,000+ attendees come to see what’s next\nAlign your brand with MCIT and Saudi Vision 2030\nUnlock strategic sponsorship opportunities beyond exhibition stands\nGet first access before stand space sells out (it always does)\n\n\n\n\n\n\n\n\n600+ STARTUPS\n\n\n\n\n1\,000+ SPEAKERS\n\n\n\n\n1\,800+ GLOBAL TECH BRANDS\n\n\n\n\n201\,000+ VISITORS\n\n\n\n\n1\,900+ INVESTORS
URL:https://cybernewsglobal.com/event/leap-2026-riyadh/
LOCATION:Riyadh\,KSA\, Saudi Arabia
ATTACH;FMTTYPE=image/png:https://cybernewsglobal.com/wp-content/uploads/2026/04/CNG-Events-Featured-Images-10.png
ORGANIZER;CN="LEAP":MAILTO:LeapCustomerService@Tahaluf.com
END:VEVENT
BEGIN:VEVENT
DTSTART;TZID=Europe/London:20260902T000000
DTEND;TZID=Europe/London:20260903T000000
DTSTAMP:20260422T195332
CREATED:20260221T082239Z
LAST-MODIFIED:20260221T133449Z
UID:10000092-1788307200-1788393600@cybernewsglobal.com
SUMMARY:Ai Forward Summit 2026
DESCRIPTION:AI-FORWARD SUMMIT 2026 \nABOUT AICTO \nThe Arab ICT Organization (AICTO) is a specialized Arab organization that focuses on information and communication technologies (ICT) within the Arab region. It operates under the umbrella of the League of Arab States and aims to promote cooperation\, development\, and innovation in the ICT sector across Arab countries. \nMoving beyond fragmented approaches to more proactive and visionary Al strategies. In the Arab region\, our ambition is to become one of the main leaders in Al innovation\, fundamentally embedding ethical\, social\, and human values at the core of digital and economic development. \nThis milestone event fosters regional and global dialogue on Al’s transformative role in driving innovation\, economic development\, and shaping inclusive\, ethical\, and sustainable digital futures\, marking the shift from data access to intelligence-driven\, human-centered societies built on trust\, innovation\, and shared prosperity. \nAICTO’s Strategic Vision 2030 \nBuilding a SMART\, SECURE\, and ISUSTAINABLE Arab Digital Future \nwww.aicto.org \nKEY STATS \n300+ High Level Participation \n500+ Registered Attendees \n40+ Innovators & Exhibitors \n40+ High level Speakers \n20+ Strategic Partners \n20+ Sessions & Roundtables \n 
URL:https://cybernewsglobal.com/event/ai-forward-summit-2026/
LOCATION:04 Rue Taoufik EL Hakim\, 2078 la Marsa\, Tunisia
ATTACH;FMTTYPE=image/png:https://cybernewsglobal.com/wp-content/uploads/2026/02/CNG-Events-Featured-Images-7.png
ORGANIZER;CN="AICTO":MAILTO:contact@aicto.org
END:VEVENT
BEGIN:VEVENT
DTSTART;TZID=Europe/London:20260909T080000
DTEND;TZID=Europe/London:20260909T170000
DTSTAMP:20260422T195332
CREATED:20260221T083954Z
LAST-MODIFIED:20260221T084023Z
UID:10000093-1788940800-1788973200@cybernewsglobal.com
SUMMARY:CIS CyberForge Abu Dhabi 2026
DESCRIPTION:EVENT OVERVIEW \nWelcome to the CIS Critical Infrastructure Cyberforge Summit\, where global and regional leaders and cybersecurity experts converge to tackle the most pressing challenges in safeguarding critical infrastructure. The 2nd Abu Dhabi edition a dynamic platform for discussing cutting-edge strategies\, innovative technologies\, and collaborative solutions designed to fortify vital systems against emerging threats. Hosted by UAE National Cybersecurity Council in partnership and collaboration with a number of other government entities\, the event will host keynote presentations\, interactive panels\, and networking opportunities\, the summit will be a crucial forum for advancing the future of infrastructure security. Don’t miss this opportunity to be at the forefront of cyber defense and strategic innovation. \n200+ CISO’S \n300+ Pre-Qualified Registered Attendees \n30+ Expert Thought Leaders Speakers
URL:https://cybernewsglobal.com/event/cis-cyberforge-abu-dhabi-2026/
LOCATION:Office 502\, Stadium Point\, Sports City\, Dubai\, UAE.
ATTACH;FMTTYPE=image/png:https://cybernewsglobal.com/wp-content/uploads/2026/02/CNG-Events-Featured-Images-9-scaled.png
END:VEVENT
BEGIN:VEVENT
DTSTART;TZID=Europe/London:20260910T080000
DTEND;TZID=Europe/London:20260910T170000
DTSTAMP:20260422T195332
CREATED:20260224T154309Z
LAST-MODIFIED:20260224T185829Z
UID:10000101-1789027200-1789059600@cybernewsglobal.com
SUMMARY:Cyber Security Careers Expo Cheltenham 2026
DESCRIPTION:The Cyber Security EXPO is the only dedicated recruitment event for Cyber Security Professionals \n\n\n\n\n\nCheltenham is synonymous with the intelligence community and is an obvious choice for our EXPO\, with Cheltenham Racecourse being a perfect venue. \nThe varied work created from Cheltenham and the companies that feed into the intelligence network are far reaching\, which means cyber skills and UK Security Clearances are in high demand. If you are looking to engage with these niche opportunities that are often not available online\, then our Cheltenham EXPO should not be missed! \n4 Locations \n100+ Exhibitors \n1500+ candidates
URL:https://cybernewsglobal.com/event/cyber-security-careers-expo-cheltenham-2026/
LOCATION:Cheltenham\,United kingdom
ATTACH;FMTTYPE=image/png:https://cybernewsglobal.com/wp-content/uploads/2026/02/CNG-Events-Featured-Images-11-1.png
ORGANIZER;CN="Cyber Security EXPO":MAILTO:expo@satosmedia.com
END:VEVENT
BEGIN:VEVENT
DTSTART;TZID=Europe/London:20260924T083000
DTEND;TZID=Europe/London:20260924T233000
DTSTAMP:20260422T195332
CREATED:20260224T085144Z
LAST-MODIFIED:20260224T122723Z
UID:10000096-1790238600-1790292600@cybernewsglobal.com
SUMMARY:ScotSoft 2026
DESCRIPTION:A full-day event for technical professionals and leaders in the sector. As one of Scotland’s biggest software conferences for over 25 years\, ScotSoft allows you to connect\, learn\, and innovate while meeting new talent at the Young Software Engineer of the Year Awards. \nThis year\, the event offers an unparalleled opportunity to gain invaluable insights from industry leaders\, collaborate with peers\, and explore the latest industry trends. \n\n\nSCOTLAND’S NATIONAL INNOVATION SUMMIT\n\n\n\n\n\n\n\n\n\n\n\n\n\n\n\n\n\n\n\nScotland’s National Innovation Summit from the Scottish Government is the flagship event of National Innovation Week 2025 and will run alongside ScotSoft at the Edinburgh International Conference Centre. \nWhile the Summit is invite-only\, its guests will participate in the opening and closing keynotes at ScotSoft as well as exhibition and refreshment breaks\, offering opportunity to network with this public sector audience. \nWHAT YOU WILL GET ?\nWe’re bringing together technical excellence and leadership vision to create a truly inspiring experience for everyone. There will be keynote speakers\, breakout sessions\, and lots of networking opportunities. \nWe are bringing you sought-after speakers from far-flung locations with our annual festival of ideas and innovation.  You will be able to gain insight from the latest trends\, engage with like-minded professionals\, and explore the potential of collaboration with global experts. \nPlus ScotSoft 2025 is CPD-certified\, meaning you can clock up to 6 hrs of those all-important CPD points by attending. \nEXPERT KEYNOTES \n30+ SPEAKERS \nAWARD DINNER
URL:https://cybernewsglobal.com/event/scotsoft-2026/
LOCATION:Edinburgh Scotland\, United Kingdom
ATTACH;FMTTYPE=image/png:https://cybernewsglobal.com/wp-content/uploads/2026/02/CNG-Events-Featured-Images-8-1.png
ORGANIZER;CN="scotsoft":MAILTO:info@scotlandis.com
END:VEVENT
BEGIN:VEVENT
DTSTART;TZID=Europe/London:20260928T080000
DTEND;TZID=Europe/London:20260930T170000
DTSTAMP:20260422T195332
CREATED:20260227T115243Z
LAST-MODIFIED:20260306T134414Z
UID:10000109-1790582400-1790787600@cybernewsglobal.com
SUMMARY:Quantum Innovation Summit CNG-30 DUBAI
DESCRIPTION:WELCOME TO THE QUANTUM INNOVATION SUMMIT & EXHIBITION 2026\n\n\n\nADVANCING GLOBAL INNOVATION & TECHNOLOGICAL LEADERSHIP\n\n\nQuantum technologies are no longer confined to theoretical exploration—they are rapidly merging with AI\, advanced materials\, next-gen computing\, and secure communications to shape the global innovation landscape. As the world accelerates toward a new technological paradigm\, the Quantum Innovation Summit 2026 will be the epicenter of this transformation\, driving high-level collaboration\, industry-defining advancements\, and disruptive breakthroughs. \nRooted in the UAE’s vision for technological excellence\, this next edition will push the boundaries of science\, industry\, and policy\, fostering a global dialogue on how quantum and deep technologies will reshape economies\, fortify digital security\, revolutionize industries\, and accelerate scientific discovery. \n\nWHY THIS SUMMIT MATTERS?\n\n\n\nBeyond Theory\, Toward Global Impact – Explore how quantum\, AI\, and deep-tech innovations are converging to revolutionize sectors like finance\, healthcare\, aerospace\, and telecommunications.\nThe UAE as a Global Innovation Hub – Positioned at the crossroads of technological leadership\, the UAE is driving strategic investments\, research excellence\, and cross-border partnerships to pioneer the future of quantum.\nCollaboration at Scale – Bringing together governments\, enterprises\, startups\, and academia to build the roadmap for scalable quantum adoption\, industry integration\, and deep-tech commercialization. \n\n2000 – QIS App \n15000 – Quantum Global Festival Online Participation  \n150 –  Speakers \n80 – Content Hours \nX4 – Venue Capacity \n80 – Countries Represented
URL:https://cybernewsglobal.com/event/quantum-innovation-summit-cng-30-dubai/
LOCATION:Grand Hyatt Dubai\, 414919 Dubai
ATTACH;FMTTYPE=image/png:https://cybernewsglobal.com/wp-content/uploads/2026/02/CNG-Events-Featured-Images-10-1.png
ORGANIZER;CN="QIS":MAILTO:malak@vernewellgroup.com
END:VEVENT
BEGIN:VEVENT
DTSTART;TZID=Europe/London:20260929T093000
DTEND;TZID=Europe/London:20260930T173000
DTSTAMP:20260422T195332
CREATED:20260224T103324Z
LAST-MODIFIED:20260224T122021Z
UID:10000098-1790674200-1790789400@cybernewsglobal.com
SUMMARY:International security Expo London
DESCRIPTION:International Security Expo has an unrivalled and long-established reputation as the go-to event for those working at the highest-levels of the global security industry. \nOn 29-30 September 2026 at Olympia\, London\, join over 10\,000 professionals responsible for the security and resilience of businesses\, people and critical national infrastructure\, countering terrorism\, and those leading on homeland and international security. \nThe top security manufacturers and suppliers from around the world will be on the exhibition floor ready to show you their latest innovative solutions to help you solve all your security challenges\, whilst experts will take to the Summit and Conference and provide high-level insights that you won’t hear anywhere else. \n\nInternational Security Expo offers the ideal setting to launch new products\, with three quarters of the audience actively seeking innovation. Gain a competitive advantage by positioning your business alongside the industry’s leading companies at the heart of the global security industry. \nIf you’re looking to meet a high-quality\, vetted audience of active security buyers from across the world\, to showcase you products\, capabilities and launch your newest innovations\, then you need to be exhibiting at International Security Expo 2026. Reach out to the team today to secure your spot on our already busy exhibition floor.
URL:https://cybernewsglobal.com/event/international-security-expo-london/
LOCATION:Olympia London\, The Grand Hall Hammersmith Road\, Kensington\, London
ATTACH;FMTTYPE=image/png:https://cybernewsglobal.com/wp-content/uploads/2026/02/CNG-Events-Featured-Images-9-1.png
END:VEVENT
END:VCALENDAR