BEGIN:VCALENDAR
VERSION:2.0
PRODID:-//Cyber News Global - ECPv6.15.17.1//NONSGML v1.0//EN
CALSCALE:GREGORIAN
METHOD:PUBLISH
X-ORIGINAL-URL:https://cybernewsglobal.com
X-WR-CALDESC:Events for Cyber News Global
REFRESH-INTERVAL;VALUE=DURATION:PT1H
X-Robots-Tag:noindex
X-PUBLISHED-TTL:PT1H
BEGIN:VTIMEZONE
TZID:Europe/London
BEGIN:DAYLIGHT
TZOFFSETFROM:+0000
TZOFFSETTO:+0100
TZNAME:BST
DTSTART:20250330T010000
END:DAYLIGHT
BEGIN:STANDARD
TZOFFSETFROM:+0100
TZOFFSETTO:+0000
TZNAME:GMT
DTSTART:20251026T010000
END:STANDARD
BEGIN:DAYLIGHT
TZOFFSETFROM:+0000
TZOFFSETTO:+0100
TZNAME:BST
DTSTART:20260329T010000
END:DAYLIGHT
BEGIN:STANDARD
TZOFFSETFROM:+0100
TZOFFSETTO:+0000
TZNAME:GMT
DTSTART:20261025T010000
END:STANDARD
BEGIN:DAYLIGHT
TZOFFSETFROM:+0000
TZOFFSETTO:+0100
TZNAME:BST
DTSTART:20270328T010000
END:DAYLIGHT
BEGIN:STANDARD
TZOFFSETFROM:+0100
TZOFFSETTO:+0000
TZNAME:GMT
DTSTART:20271031T010000
END:STANDARD
END:VTIMEZONE
BEGIN:VEVENT
DTSTART;TZID=Europe/London:20261007T080000
DTEND;TZID=Europe/London:20261008T170000
DTSTAMP:20260422T212746
CREATED:20260306T062731Z
LAST-MODIFIED:20260306T073728Z
UID:10000110-1791360000-1791478800@cybernewsglobal.com
SUMMARY:World AI Technology Expo - Dubai
DESCRIPTION:Join the World AI Expo in Dubai\, UAE — the largest global AI conference and innovation hub of 2026! Connect with industry leaders\, visionary startups\, and pioneering experts from over 20 countries. Whether you’re looking to expand your network\, launch your latest AI solution\, pitch your ideas to top investors\, or gain cutting-edge insights from thought leaders\, this is the stage to accelerate your impact in the AI ecosystem. Secure your ticket now and be part of the conversation that’s defining tomorrow’s technology — spaces are filling fast! \nThe World AI Expo Dubai 2025 stands as the largest and most comprehensive AI Show & AI Conference globally\, offering an unparalleled platform for innovation and collaboration for businesses in the AI industry. Attendees will experience an array of events including AI Conferences\, AI Expo\, AI Workshops\, AI Hackathons\, AI Awards\, AI Summit\, OpenAI Events\, and AI Seminars\, ensuring they stay at the forefront of AI advancements. \nConnect directly with AI leaders from over 20 countries and catapult your career to the next level. This unique opportunity lets you engage with top minds in artificial intelligence\, sharing insights\, strategies\, and innovations that can transform your professional path. \n\nWhat is So Special  about  World Ai Expo 2026 ?\n  \n\n\nThree major global gatherings under one roof\, bringing innovators\, founders\, and investors together for high-impact discussions\, networking\, and opportunity-driven sessions. \n60+ Nationalities around the world attended \n90+ Ai Speakers & Thought Leaders \n1800+ Engaged participants representing diverse AI-driven industries \n50+ Networking Sessions\, Panel Discussions\, Keynote sessions & Startup pitching
URL:https://cybernewsglobal.com/event/world-ai-technology-expo-dubai/
LOCATION:Movenpick Grand AI\, Bustan Dubai\, UAE
ATTACH;FMTTYPE=image/png:https://cybernewsglobal.com/wp-content/uploads/2026/03/CNG-Events-Featured-Images-9.png
ORGANIZER;CN="World AI Expo":MAILTO:events@goldentreeevent.com
END:VEVENT
BEGIN:VEVENT
DTSTART;TZID=Europe/London:20261008T080000
DTEND;TZID=Europe/London:20261009T170000
DTSTAMP:20260422T212746
CREATED:20260330T053310Z
LAST-MODIFIED:20260330T053822Z
UID:10000112-1791446400-1791565200@cybernewsglobal.com
SUMMARY:OT-ISAC Summit 2026
DESCRIPTION:We look forward to bringing together industry leaders\, operators\, and security practitioners to explore how shared intelligence and collaboration can reduce real-world risk across critical infrastructure—because in OT\, security extends beyond systems to safeguarding safety. \n━━━━━━━━━━━━━━━━━━━━━━\n🎯 Theme: Driving IMPACT in Critical Infrastructure Security\n━━━━━━━━━━━━━━━━━━━━━━ \nIMPACT isn’t just our theme — it’s our framework: \n🔵 I — Intelligence: Actionable\, shared\, contextual\n🔵 M — Modern Architecture: Secure-by-design OT systems\n🔵 P — People: Skilled workforce & community collaboration\n🔵 A — Accountability: Governance & measurable outcomes\n🔵 C — Collaboration: ISAC-driven collective defense\n🔵 T — Transformation: From reactive to proactive security \n📅 8–9 October 2026 | 📍 Singapore\nREGISTER HERE: https://lnkd.in/gATwrYCE \nPartnership Opportunities\nJoin us as a partner in shaping the OT-ISAC Summit 2026. Our partnership opportunities are designed to support meaningful engagement and drive impact across the OT security community. \n📩 Contact our Sponsorship Team at: info@otisac.org\n─────────────────────\nWhat to expect:\n🎤 Keynote sessions from leading voices in OT security\n💬 Expert-led discussions & case studies\n🤝 Meaningful networking with the OT security community\n🏓 Friday Pickle Fest — Day 2 pickleball tournament for informal networking\, cross-sector engagement & community bonding\n─────────────────────
URL:https://cybernewsglobal.com/event/ot-isac-summit-2026/
LOCATION:61 Robinson Road\, Level 6 Robinson Centre\,Singapore\, 068893
ATTACH;FMTTYPE=image/png:https://cybernewsglobal.com/wp-content/uploads/2026/03/CNG-Events-Featured-Images-9-1-scaled.png
END:VEVENT
BEGIN:VEVENT
DTSTART;TZID=Europe/London:20261014T000000
DTEND;TZID=Europe/London:20261015T235900
DTSTAMP:20260422T212746
CREATED:20260221T062428Z
LAST-MODIFIED:20260223T124507Z
UID:10000088-1791936000-1792108740@cybernewsglobal.com
SUMMARY:DTX + UCX London 2026
DESCRIPTION:WELCOME TO DIGITAL TRANSFORMATION EXPO (DTX) \nDTX is for the people making real change happen – choosing the right tech\, rolling it out\, and getting results. If you’re shaping your organisation’s transformation journey\, this is the event for you. \nTransformation today means more than just technology. It’s about skills\, culture\, accessibility\, ethics and sustainability – the foundations of long-term business success. \nDTX London (14 – 15 October 2026\, Excel London) \n we bring together the UK’s digital transformation community at every level.
URL:https://cybernewsglobal.com/event/dtx-ucx-london-2026/
LOCATION:Excel London Royal Victoria Dock 1 Western Gateway London\, E16 1XL
ATTACH;FMTTYPE=image/png:https://cybernewsglobal.com/wp-content/uploads/2026/02/CNG-Events-Featured-Images-4.png
END:VEVENT
BEGIN:VEVENT
DTSTART;TZID=Europe/London:20261027T080000
DTEND;TZID=Europe/London:20261027T170000
DTSTAMP:20260422T212746
CREATED:20260224T154927Z
LAST-MODIFIED:20260224T185637Z
UID:10000102-1793088000-1793120400@cybernewsglobal.com
SUMMARY:Cyber Security Careers Expo QEII Westminster London 2026
DESCRIPTION:The Cyber Security EXPO is the only dedicated recruitment event for Cyber Security Professionals  \n\n\n\n\n\nLocated in the heart of London at the QEII Centre\, the Cyber Security EXPO London offers a prime opportunity for cyber security professionals to connect and explore career opportunities. Exhibitors gain direct access to a qualified\, targeted audience\, enhancing visibility and creating valuable networking possibilities\, while visitors can meet potential employers and discover new career paths that match their skills. \n4 Locations \n100+ Exhibitors \n1500+ candidates
URL:https://cybernewsglobal.com/event/cyber-security-careers-expo-qeii-westminster-london-2026/
LOCATION:London\, United Kingdom
ATTACH;FMTTYPE=image/png:https://cybernewsglobal.com/wp-content/uploads/2026/02/CNG-Events-Featured-Images-11-1.png
ORGANIZER;CN="Cyber Security EXPO":MAILTO:expo@satosmedia.com
END:VEVENT
END:VCALENDAR