BEGIN:VCALENDAR
VERSION:2.0
PRODID:-//Cyber News Global - ECPv6.15.17.1//NONSGML v1.0//EN
CALSCALE:GREGORIAN
METHOD:PUBLISH
X-WR-CALNAME:Cyber News Global
X-ORIGINAL-URL:https://cybernewsglobal.com
X-WR-CALDESC:Events for Cyber News Global
REFRESH-INTERVAL;VALUE=DURATION:PT1H
X-Robots-Tag:noindex
X-PUBLISHED-TTL:PT1H
BEGIN:VTIMEZONE
TZID:Europe/London
BEGIN:DAYLIGHT
TZOFFSETFROM:+0000
TZOFFSETTO:+0100
TZNAME:BST
DTSTART:20250330T010000
END:DAYLIGHT
BEGIN:STANDARD
TZOFFSETFROM:+0100
TZOFFSETTO:+0000
TZNAME:GMT
DTSTART:20251026T010000
END:STANDARD
BEGIN:DAYLIGHT
TZOFFSETFROM:+0000
TZOFFSETTO:+0100
TZNAME:BST
DTSTART:20260329T010000
END:DAYLIGHT
BEGIN:STANDARD
TZOFFSETFROM:+0100
TZOFFSETTO:+0000
TZNAME:GMT
DTSTART:20261025T010000
END:STANDARD
BEGIN:DAYLIGHT
TZOFFSETFROM:+0000
TZOFFSETTO:+0100
TZNAME:BST
DTSTART:20270328T010000
END:DAYLIGHT
BEGIN:STANDARD
TZOFFSETFROM:+0100
TZOFFSETTO:+0000
TZNAME:GMT
DTSTART:20271031T010000
END:STANDARD
END:VTIMEZONE
BEGIN:VEVENT
DTSTART;TZID=Europe/London:20260601T080000
DTEND;TZID=Europe/London:20260603T170000
DTSTAMP:20260422T130442
CREATED:20260225T070830Z
LAST-MODIFIED:20260225T070830Z
UID:10000108-1780300800-1780506000@cybernewsglobal.com
SUMMARY:2026 NICE Conference and Expo
DESCRIPTION:The 2026 NICE Conference & Expo will be held June 1–3\, 2026\, at the Philadelphia Marriott Downtown in Philadelphia\, Pennsylvania. \nWe’re excited to announce the theme for this year’s conference! \nFrom Foundations to the Future: Transforming the Cybersecurity Workforce\, honors our historical roots while looking boldly ahead. This theme highlights the ongoing evolution of workforce development and the sustained efforts of connecting foundational practices with innovative\, inclusive approaches designed to address emerging technologies and future challenges. \nDon’t miss out! Early Bird Registration is now open. \nIf you need ADA accommodations to attend this event\, please email us at info@niceconference.org\, after completing your registration.
URL:https://cybernewsglobal.com/event/2026-nice-conference-and-expo/
LOCATION:Philadelphia Marriott Downtown in Philadelphia\, Pennsylvania.
ATTACH;FMTTYPE=image/png:https://cybernewsglobal.com/wp-content/uploads/2026/02/CNG-Events-Featured-Images-8-2.png
ORGANIZER;CN="NICE":MAILTO:info@niceconference.org
END:VEVENT
END:VCALENDAR