BEGIN:VCALENDAR
VERSION:2.0
PRODID:-//Cyber News Global - ECPv6.15.17.1//NONSGML v1.0//EN
CALSCALE:GREGORIAN
METHOD:PUBLISH
X-ORIGINAL-URL:https://cybernewsglobal.com
X-WR-CALDESC:Events for Cyber News Global
REFRESH-INTERVAL;VALUE=DURATION:PT1H
X-Robots-Tag:noindex
X-PUBLISHED-TTL:PT1H
BEGIN:VTIMEZONE
TZID:Europe/London
BEGIN:DAYLIGHT
TZOFFSETFROM:+0000
TZOFFSETTO:+0100
TZNAME:BST
DTSTART:20250330T010000
END:DAYLIGHT
BEGIN:STANDARD
TZOFFSETFROM:+0100
TZOFFSETTO:+0000
TZNAME:GMT
DTSTART:20251026T010000
END:STANDARD
BEGIN:DAYLIGHT
TZOFFSETFROM:+0000
TZOFFSETTO:+0100
TZNAME:BST
DTSTART:20260329T010000
END:DAYLIGHT
BEGIN:STANDARD
TZOFFSETFROM:+0100
TZOFFSETTO:+0000
TZNAME:GMT
DTSTART:20261025T010000
END:STANDARD
BEGIN:DAYLIGHT
TZOFFSETFROM:+0000
TZOFFSETTO:+0100
TZNAME:BST
DTSTART:20270328T010000
END:DAYLIGHT
BEGIN:STANDARD
TZOFFSETFROM:+0100
TZOFFSETTO:+0000
TZNAME:GMT
DTSTART:20271031T010000
END:STANDARD
END:VTIMEZONE
BEGIN:VEVENT
DTSTART;TZID=Europe/London:20260507T063000
DTEND;TZID=Europe/London:20260507T190000
DTSTAMP:20260422T130450
CREATED:20260223T125743Z
LAST-MODIFIED:20260223T143301Z
UID:10000094-1778135400-1778180400@cybernewsglobal.com
SUMMARY:TOP 50 CISO event 2026
DESCRIPTION:Top CISO50 Awards\nCybersecurity is no longer just an IT function — it is a boardroom priority. As organisations navigate an increasingly complex threat landscape\, Chief Information Security Officers (CISOs) play a pivotal role in safeguarding trust\, ensuring business continuity\, and driving secure digital growth. \nFollowing the success of the TechPulse CXO Conclave & Awards\, the Top CISO50 Awards is an exclusive and prestigious platform dedicated to recognising the region’s most influential cybersecurity leaders. This high-impact gathering will bring together 100–150 CISOs\, CIOs\, and senior technology executives to celebrate the Top 50 security professionals shaping resilience\, innovation\, governance\, and business-aligned security transformation across enterprises. \nDesigned to foster meaningful engagement\, the CISO50 Awards provides a powerful environment for peer networking\, industry recognition\, and strategic dialogue on emerging threats\, compliance frameworks\, cyber resilience\, and future-ready security leadership.
URL:https://cybernewsglobal.com/event/top-50-ciso-event-2026/
ATTACH;FMTTYPE=image/png:https://cybernewsglobal.com/wp-content/uploads/2026/02/CNG-Events-Featured-Images-6-1.png
END:VEVENT
END:VCALENDAR