BEGIN:VCALENDAR
VERSION:2.0
PRODID:-//Cyber News Global - ECPv6.15.17.1//NONSGML v1.0//EN
CALSCALE:GREGORIAN
METHOD:PUBLISH
X-ORIGINAL-URL:https://cybernewsglobal.com
X-WR-CALDESC:Events for Cyber News Global
REFRESH-INTERVAL;VALUE=DURATION:PT1H
X-Robots-Tag:noindex
X-PUBLISHED-TTL:PT1H
BEGIN:VTIMEZONE
TZID:Europe/London
BEGIN:DAYLIGHT
TZOFFSETFROM:+0000
TZOFFSETTO:+0100
TZNAME:BST
DTSTART:20250330T010000
END:DAYLIGHT
BEGIN:STANDARD
TZOFFSETFROM:+0100
TZOFFSETTO:+0000
TZNAME:GMT
DTSTART:20251026T010000
END:STANDARD
BEGIN:DAYLIGHT
TZOFFSETFROM:+0000
TZOFFSETTO:+0100
TZNAME:BST
DTSTART:20260329T010000
END:DAYLIGHT
BEGIN:STANDARD
TZOFFSETFROM:+0100
TZOFFSETTO:+0000
TZNAME:GMT
DTSTART:20261025T010000
END:STANDARD
BEGIN:DAYLIGHT
TZOFFSETFROM:+0000
TZOFFSETTO:+0100
TZNAME:BST
DTSTART:20270328T010000
END:DAYLIGHT
BEGIN:STANDARD
TZOFFSETFROM:+0100
TZOFFSETTO:+0000
TZNAME:GMT
DTSTART:20271031T010000
END:STANDARD
END:VTIMEZONE
BEGIN:VEVENT
DTSTART;TZID=Europe/London:20261207T080000
DTEND;TZID=Europe/London:20261211T170000
DTSTAMP:20260422T172244
CREATED:20260224T095343Z
LAST-MODIFIED:20260224T122340Z
UID:10000097-1796630400-1797008400@cybernewsglobal.com
SUMMARY:GITEX GLOBAL EXPO 2026
DESCRIPTION:THE BOLDEST REINVENTION OF THE WORLD’S LARGEST TECH & STARTUP SHOW\n\nGITEX GLOBAL 2026 will take place at Dubai Exhibition Centre\, Expo City\, with a Summit on 7th Dec and 4-day Expo from 8-11 Dec 2026\nGITEX GLOBAL in 2026 launches into an entirely new dimension. A show already unmatched in scale and influence is being reimagined with new energy\, new dates\, and an iconic new home. It is a reinvention of the world’s largest tech\, AI\, and startup event into a frontier platform that accelerates the pace of global tech growthand the rising ambitions of AI economies worldwide. \nFIRST-EVER EDITION AT EXPO CITY A VENUE BUILT FOR GLOBAL TECH AMBITION\nHost your brand at the world’s largest indoor events venue – 2.2M sq. ft. of prime space\, part of a $2.7B expansion\, with 20\,000+ parking spots and seamless access beside the future world’s largest airport. \nALL-NEW\, ALL-NEXT DESIGNED FOR MAXIMUM BUSINESS IMPACT\nAn all-new 5-day engagement: Kick off 7 Dec with the GITEX Scale Summit a full-day deep dive into the biggest tech trends\, then continue with four days of Expo and high-value dealmaking from 8–11 Dec 2026. \nTHE ULTIMATE COLLISION OF GLOBAL TECH POWER\nGITEX GLOBAL & Expand North Star reunite as one mega eventwhere tech leaders\, founders and investors connect\, collaborate and shape the next big breakthrough. \n\n\n\nBEYOND BUSINESS. TECH-CATION VIBES.\nDecember in Dubai\, cooler weather\, peak season and curated experiences blending top-tier networking with the city’s vibrant lifestyle.
URL:https://cybernewsglobal.com/event/gitex-global-expo-2026/
LOCATION:GITEX DUBAI EXPO CITY\, DUBAI
ATTACH;FMTTYPE=image/png:https://cybernewsglobal.com/wp-content/uploads/2026/02/CNG-Events-Featured-Images-10.png
END:VEVENT
END:VCALENDAR