BEGIN:VCALENDAR
VERSION:2.0
PRODID:-//Cyber News Global - ECPv6.15.17.1//NONSGML v1.0//EN
CALSCALE:GREGORIAN
METHOD:PUBLISH
X-WR-CALNAME:Cyber News Global
X-ORIGINAL-URL:https://cybernewsglobal.com
X-WR-CALDESC:Events for Cyber News Global
REFRESH-INTERVAL;VALUE=DURATION:PT1H
X-Robots-Tag:noindex
X-PUBLISHED-TTL:PT1H
BEGIN:VTIMEZONE
TZID:Europe/London
BEGIN:DAYLIGHT
TZOFFSETFROM:+0000
TZOFFSETTO:+0100
TZNAME:BST
DTSTART:20250330T010000
END:DAYLIGHT
BEGIN:STANDARD
TZOFFSETFROM:+0100
TZOFFSETTO:+0000
TZNAME:GMT
DTSTART:20251026T010000
END:STANDARD
BEGIN:DAYLIGHT
TZOFFSETFROM:+0000
TZOFFSETTO:+0100
TZNAME:BST
DTSTART:20260329T010000
END:DAYLIGHT
BEGIN:STANDARD
TZOFFSETFROM:+0100
TZOFFSETTO:+0000
TZNAME:GMT
DTSTART:20261025T010000
END:STANDARD
BEGIN:DAYLIGHT
TZOFFSETFROM:+0000
TZOFFSETTO:+0100
TZNAME:BST
DTSTART:20270328T010000
END:DAYLIGHT
BEGIN:STANDARD
TZOFFSETFROM:+0100
TZOFFSETTO:+0000
TZNAME:GMT
DTSTART:20271031T010000
END:STANDARD
END:VTIMEZONE
BEGIN:VEVENT
DTSTART;TZID=Europe/London:20261027T080000
DTEND;TZID=Europe/London:20261027T170000
DTSTAMP:20260422T124431
CREATED:20260224T154927Z
LAST-MODIFIED:20260224T185637Z
UID:10000102-1793088000-1793120400@cybernewsglobal.com
SUMMARY:Cyber Security Careers Expo QEII Westminster London 2026
DESCRIPTION:The Cyber Security EXPO is the only dedicated recruitment event for Cyber Security Professionals  \n\n\n\n\n\nLocated in the heart of London at the QEII Centre\, the Cyber Security EXPO London offers a prime opportunity for cyber security professionals to connect and explore career opportunities. Exhibitors gain direct access to a qualified\, targeted audience\, enhancing visibility and creating valuable networking possibilities\, while visitors can meet potential employers and discover new career paths that match their skills. \n4 Locations \n100+ Exhibitors \n1500+ candidates
URL:https://cybernewsglobal.com/event/cyber-security-careers-expo-qeii-westminster-london-2026/
LOCATION:London\, United Kingdom
ATTACH;FMTTYPE=image/png:https://cybernewsglobal.com/wp-content/uploads/2026/02/CNG-Events-Featured-Images-11-1.png
ORGANIZER;CN="Cyber Security EXPO":MAILTO:expo@satosmedia.com
END:VEVENT
END:VCALENDAR