BEGIN:VCALENDAR
VERSION:2.0
PRODID:-//Cyber News Global - ECPv6.15.17.1//NONSGML v1.0//EN
CALSCALE:GREGORIAN
METHOD:PUBLISH
X-WR-CALNAME:Cyber News Global
X-ORIGINAL-URL:https://cybernewsglobal.com
X-WR-CALDESC:Events for Cyber News Global
REFRESH-INTERVAL;VALUE=DURATION:PT1H
X-Robots-Tag:noindex
X-PUBLISHED-TTL:PT1H
BEGIN:VTIMEZONE
TZID:Europe/London
BEGIN:DAYLIGHT
TZOFFSETFROM:+0000
TZOFFSETTO:+0100
TZNAME:BST
DTSTART:20250330T010000
END:DAYLIGHT
BEGIN:STANDARD
TZOFFSETFROM:+0100
TZOFFSETTO:+0000
TZNAME:GMT
DTSTART:20251026T010000
END:STANDARD
BEGIN:DAYLIGHT
TZOFFSETFROM:+0000
TZOFFSETTO:+0100
TZNAME:BST
DTSTART:20260329T010000
END:DAYLIGHT
BEGIN:STANDARD
TZOFFSETFROM:+0100
TZOFFSETTO:+0000
TZNAME:GMT
DTSTART:20261025T010000
END:STANDARD
BEGIN:DAYLIGHT
TZOFFSETFROM:+0000
TZOFFSETTO:+0100
TZNAME:BST
DTSTART:20270328T010000
END:DAYLIGHT
BEGIN:STANDARD
TZOFFSETFROM:+0100
TZOFFSETTO:+0000
TZNAME:GMT
DTSTART:20271031T010000
END:STANDARD
END:VTIMEZONE
BEGIN:VEVENT
DTSTART;TZID=Europe/London:20260801T080000
DTEND;TZID=Europe/London:20260806T170000
DTSTAMP:20260422T131311
CREATED:20260224T170410Z
LAST-MODIFIED:20260224T170410Z
UID:10000104-1785571200-1786035600@cybernewsglobal.com
SUMMARY:Black Hat USA  Las Vegas 2026
DESCRIPTION:WELCOME TO BLACK HAT USA 2025\nBlack Hat USA returns to the Mandalay Bay Convention Center in Las Vegas with a 6-day program. The event will open with four days of specialized cybersecurity Trainings (August 2-5)\, with courses for all skill levels. Also taking place during Black Hat USA is Summit Day on Tuesday\, August 5\, followed by the two-day main conference on August 6 & 7 featuring more than 100 selected Briefings\, dozens of open-source tool demos in Arsenal\, a robust Business Hall\, networking and social events\, and much more. \nWELCOME GUIDE\nDiscover essential event details in our 2025 Welcome Guide — your go-to resource for everything you need to navigate the event with confidence. From on-site logistics and scheduling updates to on-demand access and exclusive programs\, this guide is packed with essential information to elevate your on-site experience. Whether you’re a seasoned conference attendee or a newcomer\, this guide unlocks valuable insights to enhance your entire experience. \n✓✓ + In-Person Briefings Pass includes On-Demand Access to Briefings Recordings \n✓✓ Includes early Business Hall access for setup \n✓✓ On-Demand Access includes recordings of Briefings\, Arsenal demos\, Sponsored Sessions & more\, available May 1. \n✓✓ Unless otherwise stated
URL:https://cybernewsglobal.com/event/black-hat-usa-las-vegas-2026/
LOCATION:Mandalay Bay Conventional Center / Las Vegas
ATTACH;FMTTYPE=image/png:https://cybernewsglobal.com/wp-content/uploads/2026/02/12-1.png
END:VEVENT
END:VCALENDAR