BEGIN:VCALENDAR
VERSION:2.0
PRODID:-//Cyber News Global - ECPv6.15.17.1//NONSGML v1.0//EN
CALSCALE:GREGORIAN
METHOD:PUBLISH
X-ORIGINAL-URL:https://cybernewsglobal.com
X-WR-CALDESC:Events for Cyber News Global
REFRESH-INTERVAL;VALUE=DURATION:PT1H
X-Robots-Tag:noindex
X-PUBLISHED-TTL:PT1H
BEGIN:VTIMEZONE
TZID:Europe/London
BEGIN:DAYLIGHT
TZOFFSETFROM:+0000
TZOFFSETTO:+0100
TZNAME:BST
DTSTART:20250330T010000
END:DAYLIGHT
BEGIN:STANDARD
TZOFFSETFROM:+0100
TZOFFSETTO:+0000
TZNAME:GMT
DTSTART:20251026T010000
END:STANDARD
BEGIN:DAYLIGHT
TZOFFSETFROM:+0000
TZOFFSETTO:+0100
TZNAME:BST
DTSTART:20260329T010000
END:DAYLIGHT
BEGIN:STANDARD
TZOFFSETFROM:+0100
TZOFFSETTO:+0000
TZNAME:GMT
DTSTART:20261025T010000
END:STANDARD
BEGIN:DAYLIGHT
TZOFFSETFROM:+0000
TZOFFSETTO:+0100
TZNAME:BST
DTSTART:20270328T010000
END:DAYLIGHT
BEGIN:STANDARD
TZOFFSETFROM:+0100
TZOFFSETTO:+0000
TZNAME:GMT
DTSTART:20271031T010000
END:STANDARD
END:VTIMEZONE
BEGIN:VEVENT
DTSTART;TZID=Europe/London:20260421T080000
DTEND;TZID=Europe/London:20260624T170000
DTSTAMP:20260422T125649
CREATED:20260224T165722Z
LAST-MODIFIED:20260224T165729Z
UID:10000103-1776758400-1782320400@cybernewsglobal.com
SUMMARY:Black Hat Asia Singapore 2026
DESCRIPTION:WELCOME TO BLACK HAT ASIA 2026\nBlack Hat Asia returns to Marina Bay Sands in Singapore with a four-day program featuring specialized cybersecurity Trainings with courses for all skill levels\, a Summit Day\, and the two-day main conference. Black Hat Asia 2026 will feature Briefings by experts from around the world presenting the latest research in cybersecurity risks\, developments and trends\, dozens of open-source tool demos in Arsenal\, a robust Business Hall\, networking opportunities\, social events\, and much morE. \n✓✓ + In-Person Briefings Pass includes On-Demand Access to Briefings Recordings \n✓✓ Includes early Business Hall access for setup \n✓✓ On-Demand Access includes recordings of Briefings\, Arsenal demos\, Sponsored Sessions & more\, available May 1. \n✓✓ Unless otherwise stated
URL:https://cybernewsglobal.com/event/black-hat-asia-singapore/
LOCATION:MARINA BAY SANDS / SINGAPORE
ATTACH;FMTTYPE=image/png:https://cybernewsglobal.com/wp-content/uploads/2026/02/11.png
END:VEVENT
END:VCALENDAR